BEGIN:VCALENDAR
VERSION:2.0
PRODID:-//TYPO3/WES Cal (wes_cal)//DE
METHOD:PUBLISH
BEGIN:VEVENT
UID:https://schulmuseum.friedrichshafen.de_42315
DTSTAMP:20260424T235810
DTSTART:20260424T200000
CATEGORIES:Sonstiges,Sonstiges
SUMMARY:Jahreshauptversammlung Narrenzunft Berg
DESCRIPTION:Die Narrenzunft Berg lädt alle Mitglieder und Interessierten zur Jahreshauptversammlung ein.\r\nTagesordnung:\r\nBegrüßungBerichte- des Schriftführers- des Kassiers und der Kassenprüfer- des 1. VorstandesEntlastung der VorstandschaftNeuwahlen- 1. Vorstand- Schriftführer- 1 Ausschussmitglied- 1 Gruppenführer- Jugendleiter/StellvertreterAnträge/Verschiedenes\r\nÜber zahlreiches Erscheinen freut sich die Vorstandsschaft
LOCATION:Gemeindehaus Berg, 88048 Friedrichshafen
END:VEVENT
END:VCALENDAR